BEGIN:VCALENDAR
VERSION:2.0
PRODID:-//pretix//pretix.eu//
BEGIN:VTIMEZONE
TZID:Europe/Paris
BEGIN:STANDARD
DTSTART:20001029T040000
RRULE:FREQ=YEARLY;BYDAY=-1SU;BYMONTH=10
TZNAME:CET
TZOFFSETFROM:+0200
TZOFFSETTO:+0100
END:STANDARD
BEGIN:DAYLIGHT
DTSTART:20000326T030000
RRULE:FREQ=YEARLY;BYDAY=-1SU;BYMONTH=3
TZNAME:CEST
TZOFFSETFROM:+0100
TZOFFSETTO:+0200
END:DAYLIGHT
END:VTIMEZONE
BEGIN:VEVENT
UID:pretix-nixcon-2022-0@tickets.nixcon.org
DTSTART;TZID=Europe/Paris:20221020T090000
DTEND;TZID=Europe/Paris:20221022T200000
DESCRIPTION:Tickets: https://tickets.nixcon.org/2022/\nAdmission: 2022-10-2
 0 09:00\nOrganizer: NixCon Org
DTSTAMP:20260420T095606Z
LOCATION:45 rue d'Ulm\, 75005 Paris\, France
SUMMARY:NixCon 2022
END:VEVENT
END:VCALENDAR
